BEGIN:VCALENDAR
VERSION:2.0
PRODID:icalendar-ruby
CALSCALE:GREGORIAN
METHOD:PUBLISH
BEGIN:VEVENT
DTSTAMP:20260423T202259Z
UID:5-406989@trinitycottam.ca
DTSTART:20261018T143000Z
DTEND:20261018T153000Z
CLASS:PUBLIC
CREATED:20260423T133847
DESCRIPTION:Sunday Worship
LAST-MODIFIED:20260423T133847
LOCATION:
SUMMARY:Sunday Worship
URL;VALUE=URI:https://www.trinitycottam.ca/events/sunday-worship/2026-10-18
END:VEVENT
END:VCALENDAR
