BEGIN:VCALENDAR
VERSION:2.0
PRODID:icalendar-ruby
CALSCALE:GREGORIAN
METHOD:PUBLISH
BEGIN:VEVENT
DTSTAMP:20260423T132741Z
UID:5-406463@trinitycottam.ca
DTSTART:20260920T143000Z
DTEND:20260920T153000Z
CLASS:PUBLIC
CREATED:20260423T075001
DESCRIPTION:Sunday Worship
LAST-MODIFIED:20260423T075001
LOCATION:
SUMMARY:Sunday Worship
URL;VALUE=URI:https://www.trinitycottam.ca/events/sunday-worship/2026-09-20
END:VEVENT
END:VCALENDAR
